BEGIN:VCALENDAR
VERSION:2.0
PRODID:-//https://dommusiken.de///NONSGML kigkonsult.se iCalcreator 2.10.15//
METHOD:PUBLISH
BEGIN:VEVENT
UID:20260420T050224CEST-2077X4i63V@https://dommusiken.de/
DTSTAMP:20260420T030224Z
DESCRIPTION:Konzert mit dem Hildesheimer Männerchor\n= Eintritt frei = http
 s://dommusiken.de/component/rseventspro/event/434-konzert-mit-dem-hildeshe
 imer-maennerchor?Itemid=101
DTSTART:20250209T180000Z
DTEND:20250209T200000Z
LOCATION:Stiftskirche / Dom (Stiftsfreiheit\, 37581 Bad Gandersheim\, Deuts
 chland)
SUMMARY:Konzert mit dem Hildesheimer Männerchor
URL:https://dommusiken.de/component/rseventspro/event/434-konzert-mit-dem-h
 ildesheimer-maennerchor?Itemid=101
END:VEVENT
BEGIN:VEVENT
UID:20260420T050224CEST-2080fgEt9a@https://dommusiken.de/
DTSTAMP:20260420T030224Z
DESCRIPTION:Lisbeth Amberger an der Muhleisen-Orgel \n- Eintritt frei - htt
 ps://dommusiken.de/component/rseventspro/event/444-orgelmusik?Itemid=101
DTSTART:20250607T173000Z
DTEND:20250607T183000Z
LOCATION:Stiftskirche / Dom (Stiftsfreiheit\, 37581 Bad Gandersheim\, Deuts
 chland)
SUMMARY:Orgelmusik
URL:https://dommusiken.de/component/rseventspro/event/444-orgelmusik?Itemid
 =101
END:VEVENT
BEGIN:VEVENT
UID:20260420T050224CEST-20820hiKvZ@https://dommusiken.de/
DTSTAMP:20260420T030224Z
DESCRIPTION:Französische Orgelmusik\nLisbeth Amberger an der Muhleisen-Orge
 l \n- Eintritt frei - https://dommusiken.de/component/rseventspro/event/45
 4-orgelmusik?Itemid=101
DTSTART:20250913T173000Z
DTEND:20250913T183000Z
LOCATION:Stiftskirche / Dom (Stiftsfreiheit\, 37581 Bad Gandersheim\, Deuts
 chland)
SUMMARY:Orgelmusik
URL:https://dommusiken.de/component/rseventspro/event/454-orgelmusik?Itemid
 =101
END:VEVENT
BEGIN:VEVENT
UID:20260420T050224CEST-2084h65lMA@https://dommusiken.de/
DTSTAMP:20260420T030224Z
DESCRIPTION:Kindermusical - Das Gespensterschloss\nKinderchöre der Stiftski
 rchengemeinde\nLisbeth Amberger\, Leitung https://dommusiken.de/component/
 rseventspro/event/456-kindermusical?Itemid=101
DTSTART:20251012T173000Z
DTEND:20251012T183000Z
LOCATION:Stiftskirche / Dom (Stiftsfreiheit\, 37581 Bad Gandersheim\, Deuts
 chland)
SUMMARY:Kindermusical
URL:https://dommusiken.de/component/rseventspro/event/456-kindermusical?Ite
 mid=101
END:VEVENT
BEGIN:VEVENT
UID:20260420T050224CEST-208632vh7o@https://dommusiken.de/
DTSTAMP:20260420T030224Z
DESCRIPTION:GABRIEL FAURÉ – REQUIEM\nDeborah Manzeck\, SopranKevin Dickmann
 \, BaritonLars-Simon Sokola\, Orgel\nSeesener Kantorei und Gandersheimer D
 omkantorei mit Gästen\nLisbeth Amberger\, Leitung\nEintritt: 16 € (an der 
 Abendkasse) https://dommusiken.de/component/rseventspro/event/457-gabriel-
 faure---requiem?Itemid=101
DTSTART:20251123T180000Z
DTEND:20251123T193000Z
LOCATION:Stiftskirche / Dom (Stiftsfreiheit\, 37581 Bad Gandersheim\, Deuts
 chland)
SUMMARY:GABRIEL FAURÉ – REQUIEM
URL:https://dommusiken.de/component/rseventspro/event/457-gabriel-faure---r
 equiem?Itemid=101
END:VEVENT
BEGIN:VEVENT
UID:20260420T050224CEST-2088UZuRWl@https://dommusiken.de/
DTSTAMP:20260420T030224Z
DESCRIPTION:JOH. SEB. BACH WEIHNACHTSORATORIUM Kantaten I-III\nMagdalene Ha
 rer\, SopranAnne Bierwirth\, AltFabian Kelly\,TenorHinrich Horn\, Bass\nCo
 ncerto Vocale NiedersachsenGöttinger BarockorchesterMartin Heubach\, Leitu
 ng\nEintritt: 16\, 25\, 32 €\n  https://dommusiken.de/component/rseventspr
 o/event/460-joh-seb-bach-weihnachtsoratorium-kantaten-i-iii?Itemid=101
DTSTART:20251220T180000Z
DTEND:20251220T193000Z
LOCATION:Stiftskirche / Dom (Stiftsfreiheit\, 37581 Bad Gandersheim\, Deuts
 chland)
SUMMARY:Joh. Seb. Bach Weihnachtsoratorium - Kantaten I-III
URL:https://dommusiken.de/component/rseventspro/event/460-joh-seb-bach-weih
 nachtsoratorium-kantaten-i-iii?Itemid=101
END:VEVENT
BEGIN:VEVENT
UID:20260420T050224CEST-2091pOr9ZV@https://dommusiken.de/
DTSTAMP:20260420T030224Z
DESCRIPTION:ERÖFFNUNGSKONZERT DER DOMMUSIKEN 2026\nFEUERWERK - KLAVIERAKADE
 MIE\n12 Pianistinnen und Pianisten am Steinwayflügel\nNach sechs Jahren Pa
 use kehrt die FEUERWERK Klavierakademie am 29. März endlich zurück in die 
 Stiftskirche Bad Gandersheim. In den Jahren 2018 bis 2020 begeisterte die 
 Akademieklasse bereits das lokale Publikum – nun knüpft die neue Generatio
 n internationaler Ausnahmetalente an diese Tradition an.\nUnter der Leitun
 g des renommierten Dozenten Gintaras Januševičius bringen die jungen Piani
 sten ein Programm voller technischer Brillanz und tiefer Emotionen auf die
  Bühne. Erleben Sie Klaviermusik auf höchstem Niveau in der einzigartigen 
 Akustik des Doms. Ein Muss für alle Musikliebhaber!\nMit diesem Konzert we
 rden offiziell die von Concerto Gandersheim organisierten Dommusiken 2026 
 eröffnet.\nEintritt freiwillig - Am Ende geht der blaue Glashut herum –\nS
 pendenempfehlung pro Person 20 Euro.\nSitzplatzreservierung über diesen QR
 -Code\n\nKurzvorstellung der Pianisten\nDer Jahrgang 2026 der FEUERWERK Ak
 ademie zeichnet sich durch eine beeindruckende internationale Vielfalt aus
 . Zu den skandinavischen Talenten zählt Astri Aareskjold\, während Yanjun 
 Chen die chinesische Klavierschule repräsentiert. Mit Mykhailo Diordiiev u
 nd Yuliia Lavrinenko sowie dem Rumänen Leonard Mihale sind starke pianisti
 sche Stimmen aus Osteuropa vertreten. Aus dem Süden Europas bringen der It
 aliener Fulvio Nicolosi\, der Kroate Jan Nikovich sowie der Ungar András L
 akatos ihr Können in die Akademie ein. Das Baltikum ist in diesem Jahr bes
 onders stark durch die beiden litauischen Talente Meda Siliūtė und Povilas
  Ušinskis vertreten. Abgerundet wird das Ensemble durch die beiden deutsch
 en Nachwuchspianistinnen Frederike Präger und Paula Vogel\, die das lokale
  Fundament dieses hochkarätigen internationalen Jahrgangs bilden. https://
 dommusiken.de/component/rseventspro/event/463-feuerwerk-klavierakademie?It
 emid=101
DTSTART:20260329T170000Z
DTEND:20260329T190000Z
LOCATION:Stiftskirche / Dom (Stiftsfreiheit\, 37581 Bad Gandersheim\, Deuts
 chland)
SUMMARY:Feuerwerk - Klavierakademie
URL:https://dommusiken.de/component/rseventspro/event/463-feuerwerk-klavier
 akademie?Itemid=101
END:VEVENT
BEGIN:VEVENT
UID:20260420T050224CEST-2097AOJf4G@https://dommusiken.de/
DTSTAMP:20260420T030224Z
DESCRIPTION:VOX ORGANI – ORGELKONZERT\nBach\, Janacek\, Vierne und Reger\nU
 lfert Smidt (Hannover) an der Muhleisenorgel\nEintritt frei - Spende\nUlfe
 rt Smidt\, aufgewachsen in Bremen\, A-Kirchenmusik-Examen 1985 in Hannover
 . Als Stipendiat der deutschen Studienstiftung führte sein weiterer Weg na
 ch Amsterdam zu Piet Kee und Ewald Kooiman und damit an die wichtigsten Or
 geln der Niederlande. Weiterführende Impulse erhielt er u.a. von Harald Vo
 gel und Michael Radulescu.\nTätigkeit als Kirchenmusiker\, Kreiskantor und
  Orgelrevisor in Holzminden und Bremen\, seit 1996 Organist der Marktkirch
 e Hannover und künstlerischer Leiter der internationalen Orgelkonzerte tät
 ig. Dozent an der Hochschule für Musik\, Theater und Medien Hannover.\nReg
 e Konzerttätigkeit im In- und Ausland (u.a. Holland\, Frankreich\, Polen\,
  Russland\, USA).\nZahlreiche CDs dokumentieren die stilistische Bandbreit
 e Ulfert Smidts: das Orgelwerk von Johannes Brahms\, Norddeutsche Orgelmus
 ik\, César Franck-Transkriptionen\, Werke von Bach\, Mendelssohn\, Frank M
 artin\, Messiaen und Alfred Koerppen. Seine Einspielungen wurden mit namha
 ften Preisen ausgezeichnet\, darunter der Preis der Deutschen Schallplatte
 nkritik (ECHO Klassik). Die letzten Produktionen entstanden an den Orgeln 
 der Marktkirche Hannover: Bach an drei Orgeln\, „fireworks“ mit Saxofon so
 wie Orgelwerke von Max Reger und Charles-Marie Widor.\n \nVeranstalter: Vo
 x Organi in Verbindung mit Concerto Gandersheim\n\n  https://dommusiken.de
 /component/rseventspro/event/464-vox-organi-orgelkonzert?Itemid=101
DTSTART:20260425T170000Z
DTEND:20260425T183000Z
LOCATION:Stiftskirche / Dom (Stiftsfreiheit\, 37581 Bad Gandersheim\, Deuts
 chland)
SUMMARY:VOX ORGANI - Orgelkonzert
URL:https://dommusiken.de/component/rseventspro/event/464-vox-organi-orgelk
 onzert?Itemid=101
END:VEVENT
BEGIN:VEVENT
UID:20260420T050224CEST-2102vAnhug@https://dommusiken.de/
DTSTAMP:20260420T030224Z
DESCRIPTION:KLEZFIRE\nHelmut Eisel & JEM featHelmut Eisel – KlarinetteStefa
 n Engelmann – KontrabassJuan-Pablo González-Tobón – GitarreSebastian Volz 
 - Steinwayflügel\nEintritt: 16\, 25\, 32 € (Reservix und Abendkasse)Concer
 to Gandersheim e.V. Ticketshop - Klezfire Tickets\, Stiftskirche\, 37581 B
 ad Gandersheim - online bestellen\nKlezFire? Mit einzigartigem Sound\, vir
 tuoser Brillanz und Ausdruckkraft schöpft Helmut Eisel aus Rhythmen und Mo
 tiven der Klezmermusik. Seine Klarinette bringt er dabei immer wieder in u
 nwiderstehlicher Weise zum Lachen oder zum Weinen\, lässt sie singen\, tob
 en oder trösten. Mit seinen kongenialen Mitmusikern Juan-Pablo González (G
 itarre)\, Stefan Engelmann (Kontrabass) und Sebastian Volz am Steinwayflüg
 el erzählt er musikalische Geschichten\, die wirklich berühren und entflam
 men! Einfach „KlezFire!“ https://dommusiken.de/component/rseventspro/event
 /465-klezfire?Itemid=101
DTSTART:20260517T170000Z
DTEND:20260517T190000Z
LOCATION:Stiftskirche / Dom (Stiftsfreiheit\, 37581 Bad Gandersheim\, Deuts
 chland)
SUMMARY:KlezFire
URL:https://dommusiken.de/component/rseventspro/event/465-klezfire?Itemid=1
 01
END:VEVENT
BEGIN:VEVENT
UID:20260420T050224CEST-2105KG4Vek@https://dommusiken.de/
DTSTAMP:20260420T030224Z
DESCRIPTION:CHORKONZERT\nzum Abschluss des Ehemaligentreffens der Capella V
 ocale Gandersheim mit Werken von Monteverdi\, Schütz\, Hammerschmidt\, Alv
 én\, Heubach\, Beethoven\, Lloyd Webber u. a.\nKlavier und Orgel n.n.\nMar
 tin Heubach\, Leitung\nEintritt: 16 € nur Abendkasse\n \nZum 3. Mal treffe
 n sich einmal im Jahr Ehemalige der Capella Vocale Gandersheim in Mariaspr
 ing zu einem Probenwochenende mit abschließendem Konzert in der Heimatkirc
 he in Bad Gandersheim. 12 Frauen- und 12 Männerstimmen präsentieren ein Pr
 ogramm mit geistlichen und weltlichen Werken unter der Leitung ihres Gründ
 ers\, Martin Heubach. https://dommusiken.de/component/rseventspro/event/46
 6-chorkonzert?Itemid=101
DTSTART:20260607T170000Z
DTEND:20260607T183000Z
LOCATION:Stiftskirche / Dom (Stiftsfreiheit\, 37581 Bad Gandersheim\, Deuts
 chland)
SUMMARY:Chorkonzert
URL:https://dommusiken.de/component/rseventspro/event/466-chorkonzert?Itemi
 d=101
END:VEVENT
END:VCALENDAR
