BEGIN:VCALENDAR
VERSION:2.0
PRODID:-//https://dommusiken.de///NONSGML kigkonsult.se iCalcreator 2.10.15//
METHOD:PUBLISH
BEGIN:VEVENT
UID:20260420T063536CEST-7520l5vvwu@https://dommusiken.de/
DTSTAMP:20260420T043536Z
DESCRIPTION:Leiden – Sterben - Auferstehen\nEine Passionsmusik mit Werken v
 on\nLassus\, Schütz\, Schein\, Kuhnau\, Mauersberger\, Bardos\, Nystedt\, 
 Pärt\nCapella Vocale Gandersheim\, Jan Kämmerer\, Rezitation \nMartin Heub
 ach\, Leitung und Orgel              \nEintritt: 17\,50 €\nConcerto Gander
 sheim e.V. Ticketshop - Leiden - Sterben - Auferstehen Tickets\, Stiftskir
 che Bad Gandersheim\, 37581 Bad Gandersheim - online bestellen (reservix.d
 e)\nMit insgesamt 3 Konzerten wird die Capella Vocale anläßlich ihres 40-j
 ährigen Gründungsjubiläums zu hören sein. In diesem Chorkonzert werden wir
  verschiedene vertonte Texte zu der Leidensgeschichte des Jesus von Nazare
 th aus unterschiedlichen musikalischen Epochen mit zeitgenössischen Texten
   - rezitiert von Jan Kämmerer (Gandersheimer Domfestspiele) in Verbindung
  mit dramatisierenden Orgelimprovisationen (Martin Heubach) an der saniert
 en Muhleisen-Orgel - kontrapunktieren. https://dommusiken.de/component/rse
 ventspro/event/340-40-jahre-capella-vocale-gandersheim?Itemid=101
DTSTART:20230319T170000Z
DTEND:20230319T183000Z
LOCATION:Stiftskirche / Dom (Stiftsfreiheit\, 37581 Bad Gandersheim\, Deuts
 chland)
SUMMARY:40 Jahre Capella Vocale Gandersheim
URL:https://dommusiken.de/component/rseventspro/event/340-40-jahre-capella-
 vocale-gandersheim?Itemid=101
END:VEVENT
END:VCALENDAR
