BEGIN:VCALENDAR
VERSION:2.0
PRODID:-//https://dommusiken.de///NONSGML kigkonsult.se iCalcreator 2.10.15//
METHOD:PUBLISH
BEGIN:VEVENT
UID:20260420T062950CEST-9868lUPlUT@https://dommusiken.de/
DTSTAMP:20260420T042950Z
DESCRIPTION:40 Jahre Capella Vocale Gandersheim - Konzert mit EhemaligenWer
 ke von Eccard\, Mendelssohn\, Bach\, Messiaen\, Whitacre u. a.Capella Voca
 le GandersheimAndrej Naumovich an den TasteninstrumentenMartin Heubach\, L
 eitung\nEintritt: 17\,50 €\nConcerto Gandersheim e.V. Ticketshop - 40 Jahr
 e Capella Vocale Gandersheim Tickets\, Stiftskirche Bad Gandersheim\, 3758
 1 Bad Gandersheim - online bestellen (reservix.de)\nDas zweite Konzert im 
 Rahmen der Jubiläumskonzerte der Capella Vocale veranstalten wir als Konze
 rt- und Probenwochenende unter Beteiligung von Ehemaligen. Die ca. 40 Teil
 nehmerinnnen und Teilnehmer werden dabei beliebte Werke aus dem 40-jährige
 n Repertoire der Capella singen\, die eine lange „Halbwertzeit“ in unseren
  Konzertprogrammen hatten. https://dommusiken.de/component/rseventspro/eve
 nt/358-40-jahre-capella-vocale-gandersheim?Itemid=101
DTSTART:20230611T180000Z
DTEND:20230611T193000Z
LOCATION:Stiftskirche / Dom (Stiftsfreiheit\, 37581 Bad Gandersheim\, Deuts
 chland)
SUMMARY:40 Jahre Capella Vocale Gandersheim
URL:https://dommusiken.de/component/rseventspro/event/358-40-jahre-capella-
 vocale-gandersheim?Itemid=101
END:VEVENT
END:VCALENDAR
