BEGIN:VCALENDAR
VERSION:2.0
PRODID:-//https://dommusiken.de///NONSGML kigkonsult.se iCalcreator 2.10.15//
METHOD:PUBLISH
BEGIN:VEVENT
UID:20260420T063240CEST-0992damVjM@https://dommusiken.de/
DTSTAMP:20260420T043240Z
DESCRIPTION:Konzert mit dem Hildesheimer Männerchor\n= Eintritt frei = http
 s://dommusiken.de/component/rseventspro/event/434-konzert-mit-dem-hildeshe
 imer-maennerchor?Itemid=101
DTSTART:20250209T180000Z
DTEND:20250209T200000Z
LOCATION:Stiftskirche / Dom (Stiftsfreiheit\, 37581 Bad Gandersheim\, Deuts
 chland)
SUMMARY:Konzert mit dem Hildesheimer Männerchor
URL:https://dommusiken.de/component/rseventspro/event/434-konzert-mit-dem-h
 ildesheimer-maennerchor?Itemid=101
END:VEVENT
END:VCALENDAR
