BEGIN:VCALENDAR
VERSION:2.0
PRODID:-//https://dommusiken.de///NONSGML kigkonsult.se iCalcreator 2.10.15//
METHOD:PUBLISH
BEGIN:VEVENT
UID:20260420T063557CEST-03367vewZv@https://dommusiken.de/
DTSTAMP:20260420T043557Z
DESCRIPTION:GABRIEL FAURÉ – REQUIEM\nDeborah Manzeck\, SopranKevin Dickmann
 \, BaritonLars-Simon Sokola\, Orgel\nSeesener Kantorei und Gandersheimer D
 omkantorei mit Gästen\nLisbeth Amberger\, Leitung\nEintritt: 16 € (an der 
 Abendkasse) https://dommusiken.de/component/rseventspro/event/457-gabriel-
 faure---requiem?Itemid=101
DTSTART:20251123T180000Z
DTEND:20251123T193000Z
LOCATION:Stiftskirche / Dom (Stiftsfreiheit\, 37581 Bad Gandersheim\, Deuts
 chland)
SUMMARY:GABRIEL FAURÉ – REQUIEM
URL:https://dommusiken.de/component/rseventspro/event/457-gabriel-faure---r
 equiem?Itemid=101
END:VEVENT
END:VCALENDAR
