BEGIN:VCALENDAR
VERSION:2.0
PRODID:-//https://dommusiken.de///NONSGML kigkonsult.se iCalcreator 2.10.15//
METHOD:PUBLISH
BEGIN:VEVENT
UID:20260420T063240CEST-0112n4VAn7@https://dommusiken.de/
DTSTAMP:20260420T043240Z
DESCRIPTION:JOH. SEB. BACH WEIHNACHTSORATORIUM Kantaten I-III\nMagdalene Ha
 rer\, SopranAnne Bierwirth\, AltFabian Kelly\,TenorHinrich Horn\, Bass\nCo
 ncerto Vocale NiedersachsenGöttinger BarockorchesterMartin Heubach\, Leitu
 ng\nEintritt: 16\, 25\, 32 €\n  https://dommusiken.de/component/rseventspr
 o/event/460-joh-seb-bach-weihnachtsoratorium-kantaten-i-iii?Itemid=101
DTSTART:20251220T180000Z
DTEND:20251220T193000Z
LOCATION:Stiftskirche / Dom (Stiftsfreiheit\, 37581 Bad Gandersheim\, Deuts
 chland)
SUMMARY:Joh. Seb. Bach Weihnachtsoratorium - Kantaten I-III
URL:https://dommusiken.de/component/rseventspro/event/460-joh-seb-bach-weih
 nachtsoratorium-kantaten-i-iii?Itemid=101
END:VEVENT
END:VCALENDAR
